BEGIN:VCALENDAR
VERSION:2.0
PRODID:-//eventon.com NONSGML v1.0//EN
BEGIN:VEVENT
UID:69eb17fc54e10
DTSTAMP:20260424T091300
DTSTART:20221016T220000Z
DTEND:20221031T215900Z
LOCATION:
SUMMARY:Herbstferien
DESCRIPTION: Herbstferien
END:VEVENT
END:VCALENDAR