BEGIN:VCALENDAR
VERSION:2.0
PRODID:-//eventon.com NONSGML v1.0//EN
BEGIN:VEVENT
UID:69e889eb57e06
DTSTAMP:20260422T104219
DTSTART:20250501T220000Z
DTEND:20250502T215900Z
LOCATION:
SUMMARY:Beweglicher Ferientag
DESCRIPTION: Beweglicher Ferientag
END:VEVENT
END:VCALENDAR