BEGIN:VCALENDAR
VERSION:2.0
PRODID:-//eventon.com NONSGML v1.0//EN
BEGIN:VEVENT
UID:69eca68b80624
DTSTAMP:20260425T133331
DTSTART:20260604T220000Z
DTEND:20260605T215900Z
LOCATION:
SUMMARY:Beweglicher Ferientag
DESCRIPTION: Beweglicher Ferientag
END:VEVENT
END:VCALENDAR