BEGIN:VCALENDAR
VERSION:2.0
PRODID:-//eventon.com NONSGML v1.0//EN
BEGIN:VEVENT
UID:69e77c0b3131f
DTSTAMP:20260421T153051
DTSTART:20191024T073000Z
DTEND:20191024T153000Z
LOCATION:
SUMMARY:Und ein weiterer Titel erscheint an dieser Stelle für den Eintrag
DESCRIPTION: Zwei flinke Boxer jagen die quirlige Eva und ihren Mops durch Sylt. Franz jagt im komplett verwahrlosten Taxi quer durch Bayern. Zwölf Boxkämpfer jagen Viktor quer über den großen Sylter Deich. 
END:VEVENT
END:VCALENDAR