BEGIN:VCALENDAR
VERSION:2.0
PRODID:-//eventon.com NONSGML v1.0//EN
BEGIN:VEVENT
UID:69e9f4c50940d
DTSTAMP:20260423T123029
DTSTART:20201201T170000Z
DTEND:20201201T210000Z
LOCATION:Freie Waldorfschule Westpfalz Schulstraße 4
SUMMARY:Mitgliederversammlung Verein zur Förderung der Waldorfpädagogik e.V.
DESCRIPTION: Mitgliederversammlung Verein zur Förderung der Waldorfpädagogik e.V.
END:VEVENT
END:VCALENDAR